BEGIN:VCALENDAR
VERSION:2.0
PRODID:-//Society for News Design - ECPv6.15.20//NONSGML v1.0//EN
CALSCALE:GREGORIAN
METHOD:PUBLISH
X-WR-CALNAME:Society for News Design
X-ORIGINAL-URL:https://snd.org
X-WR-CALDESC:Events for Society for News Design
REFRESH-INTERVAL;VALUE=DURATION:PT1H
X-Robots-Tag:noindex
X-PUBLISHED-TTL:PT1H
BEGIN:VTIMEZONE
TZID:America/New_York
BEGIN:DAYLIGHT
TZOFFSETFROM:-0500
TZOFFSETTO:-0400
TZNAME:EDT
DTSTART:20250309T070000
END:DAYLIGHT
BEGIN:STANDARD
TZOFFSETFROM:-0400
TZOFFSETTO:-0500
TZNAME:EST
DTSTART:20251102T060000
END:STANDARD
BEGIN:DAYLIGHT
TZOFFSETFROM:-0500
TZOFFSETTO:-0400
TZNAME:EDT
DTSTART:20260308T070000
END:DAYLIGHT
BEGIN:STANDARD
TZOFFSETFROM:-0400
TZOFFSETTO:-0500
TZNAME:EST
DTSTART:20261101T060000
END:STANDARD
BEGIN:DAYLIGHT
TZOFFSETFROM:-0500
TZOFFSETTO:-0400
TZNAME:EDT
DTSTART:20270314T070000
END:DAYLIGHT
BEGIN:STANDARD
TZOFFSETFROM:-0400
TZOFFSETTO:-0500
TZNAME:EST
DTSTART:20271107T060000
END:STANDARD
END:VTIMEZONE
BEGIN:VEVENT
DTSTART;TZID=America/New_York:20260424T090000
DTEND;TZID=America/New_York:20260424T170000
DTSTAMP:20260420T015024
CREATED:20260403T225542Z
LAST-MODIFIED:20260403T225548Z
UID:52195-1777021200-1777050000@snd.org
SUMMARY:SND47 Workshop: Berkeley
DESCRIPTION:SND47: Creative Competition workshop in the San Francisco Bay AreaThis sister event to SND’s first Southeast Asia workshop will take place in Berkeley\, Calif. and features in-person and virtual tickets \n\n\n\n\nLocation: Logan Media Center\, North Gate Hall\, U.C. Berkeley Graduate School of Journalism\n\n\n\nDate/time: April 24\, 2026 from 9 a.m. to 5 p.m.\n\n\n\n\nThis workshop comes at a significant time for the industry\, following the first-ever SND Creative Competition to feature dual-site judging in the San Francisco Bay Area and Singapore.  \n\n\n\nBringing together leading voices in media\, design\, and storytelling\, the workshop will explore how visual journalism continues to evolve in a rapidly changing digital landscape. \n\n\n\n\nRegister
URL:https://snd.org/event/snd47-workshop-berkeley/
LOCATION:Logan Media Center\, 121 North Gate Hall\, Berkeley\, California\, 94708\, United States
CATEGORIES:Workshops & Trainings
ATTACH;FMTTYPE=image/png:https://snd.org/wp-content/uploads/2026/03/SND47-Workshop-Hero-scaled.png
END:VEVENT
BEGIN:VEVENT
DTSTART;TZID=America/New_York:20260424T100000
DTEND;TZID=America/New_York:20260424T180000
DTSTAMP:20260420T015024
CREATED:20260401T145642Z
LAST-MODIFIED:20260403T230418Z
UID:52151-1777024800-1777053600@snd.org
SUMMARY:SND47 Workshop: Singapore
DESCRIPTION:SND’s first workshop in Southeast Asia!A one-day inaugural workshop to celebrate the best in news design. \n\n\n\nLocation: SPH Auditorium\, 1000 Toa Payoh North\, SingaporeDate/Time: Friday\, April 24\, 2026 from 10am – 6pm.Join us for a landmark moment in journalism and design as we host the first Society for News Design workshop in Southeast Asia — a one-day inaugural event celebrating excellence\, innovation\, and the future of news design and visual storytelling.This in-person workshop comes at a significant time for the industry\, following the first-ever SND Creative Competition to feature dual judging\, including a regional judging session hosted at Reuters. This milestone reflects the growing influence and recognition of visual journalism and communications in Southeast Asia and beyond.Bringing together leading voices in media\, design\, and storytelling\, the workshop will explore how visual journalism continues to evolve in a rapidly changing digital landscape. \n\n\n\n \n\n\n\nLimited Seating: Don’t wait to reserve your spot! \n\n\n\n\nRegister
URL:https://snd.org/event/ssnd-47-workshop-singapore/
LOCATION:SPH Auditorum\, 1000 Toa Payoh North\, Singapore\, 318994
ATTACH;FMTTYPE=image/png:https://snd.org/wp-content/uploads/2026/03/SND47-Workshop-Hero-scaled.png
END:VEVENT
END:VCALENDAR