BEGIN:VCALENDAR
VERSION:2.0
PRODID:-//Society for News Design - ECPv6.15.20//NONSGML v1.0//EN
CALSCALE:GREGORIAN
METHOD:PUBLISH
X-ORIGINAL-URL:https://snd.org
X-WR-CALDESC:Events for Society for News Design
REFRESH-INTERVAL;VALUE=DURATION:PT1H
X-Robots-Tag:noindex
X-PUBLISHED-TTL:PT1H
BEGIN:VTIMEZONE
TZID:America/New_York
BEGIN:DAYLIGHT
TZOFFSETFROM:-0500
TZOFFSETTO:-0400
TZNAME:EDT
DTSTART:20200308T070000
END:DAYLIGHT
BEGIN:STANDARD
TZOFFSETFROM:-0400
TZOFFSETTO:-0500
TZNAME:EST
DTSTART:20201101T060000
END:STANDARD
BEGIN:DAYLIGHT
TZOFFSETFROM:-0500
TZOFFSETTO:-0400
TZNAME:EDT
DTSTART:20210314T070000
END:DAYLIGHT
BEGIN:STANDARD
TZOFFSETFROM:-0400
TZOFFSETTO:-0500
TZNAME:EST
DTSTART:20211107T060000
END:STANDARD
BEGIN:DAYLIGHT
TZOFFSETFROM:-0500
TZOFFSETTO:-0400
TZNAME:EDT
DTSTART:20220313T070000
END:DAYLIGHT
BEGIN:STANDARD
TZOFFSETFROM:-0400
TZOFFSETTO:-0500
TZNAME:EST
DTSTART:20221106T060000
END:STANDARD
END:VTIMEZONE
BEGIN:VTIMEZONE
TZID:UTC
BEGIN:STANDARD
TZOFFSETFROM:+0000
TZOFFSETTO:+0000
TZNAME:UTC
DTSTART:20200101T000000
END:STANDARD
END:VTIMEZONE
BEGIN:VEVENT
DTSTART;TZID=America/New_York:20210929T120000
DTEND;TZID=America/New_York:20210929T133000
DTSTAMP:20260424T003518
CREATED:20210406T043340Z
LAST-MODIFIED:20210922T025837Z
UID:4113-1632916800-1632922200@snd.org
SUMMARY:Creative Conference Calls: The Design Museum
DESCRIPTION:Update\n\n\n\nThe Design Museum is now available for viewing and feedback. \n\n\n\nWatch a quick tutorial to learn how to navigate the design museum and use Mural. \n \n\n\n\n\n\nVisit Design Museum\n\n\n \nRegister\nLoading…\n  \nWhen you first see a design or graphic\, what is your first reaction to it? Do you admire all of it or just one aspect? Do you see an idea you want to steal for a future project? Do you wonder why the designer made one decision over another? \nOccasionally you might be able to ask the designer these questions. You can reach out on social media or maybe you know the designer personally already. But most of the time\, we don’t have the opportunity to have deep conversations with the designer\, to understand their process and decisions. \nFor the September Creative Conference Call\, now YOU can be privy to those inner thoughts and designer decisions. \nOur September event will be an interactive session for attendees and speakers that actually begins BEFORE the Creative Conference Call.  \nEnter The Design Museum. \n\n\n\n \nHow It Works\n\n\n\n \nIn September\, we selected four pieces of work from those submitted be designers. Now it is your turn to critique the work displayed.  \n\n\n \nFor the next three weeks prior to the call\, you can enter the Mural board and check out the work. Leave comments anonymously on sticky notes of things you like\, questions you have about a design choice\, color selection\, anything you want. Don’t want to be anonymous? You can sign your name on your sticky note and we’ll bring you into the discussion during the live call. \n\n\n \nPssst. if you are the designer… you can’t reply to the comments or questions left. Yet.  \n\n\n \nOn Sept. 29 the Creative Conference Call will be a speed critique. We will look at each piece of work in the Design Museum individually. For each piece we will facilitate a 5-minute conversation to discuss the comments\, questions and thoughts left on the Mural board. Anyone on the call is welcome to join the conversation. After 5 minutes\, we will speak directly with the designer to hear their thoughts\, what went into the design and how the design came to be.  \n\n\n \nThen we’ll move on to the next piece and repeat.  \n\n\n\n\n\nPssst. if you are the designer… you can’t reply to the comments or questions left. Yet.  \n\n\n\nOn Sept. 29 the Creative Conference Call will be a speed critique. We will look at each piece of work in the Design Museum individually. For each piece we will facilitate a 5-minute conversation to discuss the comments\, questions and thoughts left on the Mural board. Anyone on the call is welcome to join the conversation. After 5 minutes\, we will speak directly with the designer to hear their thoughts\, what went into the design and how the design came to be.  \n\n\n\nThen we’ll move on to the next piece and repeat.  \n\n\n\n  \n\n 
URL:https://snd.org/event/virtual-series-tbd-3/
CATEGORIES:Creative Conference Calls
ATTACH;FMTTYPE=image/png:https://snd.org/wp-content/uploads/2021/04/CCC_3550H-01-e1630846863918.png
END:VEVENT
BEGIN:VEVENT
DTSTART;TZID=America/New_York:20210818T120000
DTEND;TZID=America/New_York:20210818T133000
DTSTAMP:20260424T003518
CREATED:20210406T043013Z
LAST-MODIFIED:20210907T220418Z
UID:4111-1629288000-1629293400@snd.org
SUMMARY:Creative Conference Calls: Design Systems and Local Publications
DESCRIPTION:Jon Wile\, VP/Content & Design\, ACBJ\nMeredith Sheffer\, Senior Designer\, ACBJ\nJacqueline Prins\, Senior Designer\, ACBJ\nShaun Martin\, Senior Designer\, ACBJ\nModerated by Tim Ball\, POLITICO Europe\n\n\n \n\n\n\n\n\n\n\n  \n\nWatch this Session\n\n\n\nIf you registered for this event\, you can access the video playback. Sign into Crowdcast with the email you registered with or use the link provided in your registration email from Crowdcast. If you have issues or questions\, email us at events@snd.org. \nMembers login to watch replay. \nRegistered attendees can view on Crowdcast. Design systems create consistency\, structure and standards across sections or a family of publications. But they also can stymie creativity and freedom. The team at American City Business Journals will discuss how an organization with no visual identity a decade ago transformed its 40 weekly publications into a place where each designer’s voice can be unique and heard\, while still coloring inside the lines of a design framework. \n\nOur Speakers\n\n\n\n\nJon Wile\, VP/Content & Design\, ACBJ\nMeredith Sheffer\, Senior Designer\, ACBJ\nJacqueline Prins\, Senior Designer\, ACBJ\nShaun Martin\, Senior Designer\, ACBJ\nModerated by Tim Ball\, POLITICO Europe\n\n\n \n\n\n\n\n\n\n\n  \n\nWatch this Session\n\n\n\nIf you registered for this event\, you can access the video playback. Sign into Crowdcast with the email you registered with or use the link provided in your registration email from Crowdcast. If you have issues or questions\, email us at events@snd.org. \nMembers login to watch replay. \nRegistered attendees can view on Crowdcast.
URL:https://snd.org/event/virtual-series-tbd-2/
CATEGORIES:Creative Conference Calls
ATTACH;FMTTYPE=image/png:https://snd.org/wp-content/uploads/2021/04/CCC_aug-e1630846780720.png
END:VEVENT
BEGIN:VEVENT
DTSTART;TZID=UTC:20210721T123000
DTEND;TZID=UTC:20210721T133000
DTSTAMP:20260424T003518
CREATED:20210406T042932Z
LAST-MODIFIED:20210907T220105Z
UID:4109-1626870600-1626874200@snd.org
SUMMARY:Creative Conference Calls: Minneapolis One Year Later
DESCRIPTION:Greg Mees\, Design Director \, The Star Tribune\nKyndell Harkness\, Assistant Managing Editor of Diversity and Community\, The Star Tribune\nAnna Boone\, Digital Designer\, The Star Tribune\nModerator: Corinne Chin\, Senior Video Journalist and the founder and leader of the newsroom’s Diversity & Inclusion Task Force\, The Seattle Times\n\n\n \n\n\n\n\n\n\n\n  \n\nWatch this Session\n\n\n\nIf you registered for this event\, you can access the video playback. Sign into Crowdcast with the email you registered with or use the link provided in your registration email from Crowdcast. If you have issues or questions\, email us at events@snd.org. \nMembers login to watch replay. \nRegistered attendees can view on Crowdcast. The summer of 2020 brought us some incredible images and stories from Minneapolis. For the visual story tellers at the Star-Tribune it was a year of non-stop breaking-news coverage from the protests to the trial of Derek Chauvin. We will look back on the last 13 months with them and discuss how they visually told these closely followed stories and the impact on their community. \n\nOur Speakers\n\n\n\n\nGreg Mees\, Design Director \, The Star Tribune\nKyndell Harkness\, Assistant Managing Editor of Diversity and Community\, The Star Tribune\nAnna Boone\, Digital Designer\, The Star Tribune\nModerator: Corinne Chin\, Senior Video Journalist and the founder and leader of the newsroom’s Diversity & Inclusion Task Force\, The Seattle Times\n\n\n \n\n\n\n\n\n\n\n  \n\nWatch this Session\n\n\n\nIf you registered for this event\, you can access the video playback. Sign into Crowdcast with the email you registered with or use the link provided in your registration email from Crowdcast. If you have issues or questions\, email us at events@snd.org. \nMembers login to watch replay. \nRegistered attendees can view on Crowdcast.
URL:https://snd.org/event/virtual-series-worlds-best/
CATEGORIES:Creative Conference Calls
ATTACH;FMTTYPE=image/png:https://snd.org/wp-content/uploads/2021/04/CCC_july-e1630846791344.png
END:VEVENT
BEGIN:VEVENT
DTSTART;TZID=America/New_York:20210616T120000
DTEND;TZID=America/New_York:20210616T133000
DTSTAMP:20260424T003518
CREATED:20210406T042848Z
LAST-MODIFIED:20210907T220253Z
UID:4107-1623844800-1623850200@snd.org
SUMMARY:Creative Conference Calls: A Conversation with the World's Best
DESCRIPTION:Katinka Bukh from Weekendavisen\nWilson Andrews from The New York Times\nGabriel Gianordoli from The New York Times\nModerator: Steve Dorsey of Gannett\n\n\n \n\n\n\n\n\n\n\n  \n\nWatch this Session\n\n\n\nIf you registered for this event\, you can access the video playback. Sign into Crowdcast with the email you registered with or use the link provided in your registration email from Crowdcast. If you have issues or questions\, email us at events@snd.org. \nMembers login to watch replay. \nRegistered attendees can view on Crowdcast. \n  Moderator Steve Dorsey will be joined by World’s Best Designer\, New York Times visual editor Gabriel Gianordoli\, Wilson Andrews of The New York Times digital team and Katinka Bukn of Weekendavisen\, to discuss some of their work\, and what it means for designers and newsrooms to win World’s Best. \n\nOur Speakers\n\n\n\n\nKatinka Bukh from Weekendavisen\nWilson Andrews from The New York Times\nGabriel Gianordoli from The New York Times\nModerator: Steve Dorsey of Gannett\n\n\n \n\n\n\n\n\n\n\n  \n\nWatch this Session\n\n\n\nIf you registered for this event\, you can access the video playback. Sign into Crowdcast with the email you registered with or use the link provided in your registration email from Crowdcast. If you have issues or questions\, email us at events@snd.org. \nMembers login to watch replay. \nRegistered attendees can view on Crowdcast. \n 
URL:https://snd.org/event/virtual-series-tbd/
CATEGORIES:Creative Conference Calls
ATTACH;FMTTYPE=image/png:https://snd.org/wp-content/uploads/2021/04/CCC_June-e1630846805351.png
END:VEVENT
BEGIN:VEVENT
DTSTART;TZID=America/New_York:20210519T120000
DTEND;TZID=America/New_York:20210519T133000
DTSTAMP:20260424T003518
CREATED:20210406T042758Z
LAST-MODIFIED:20210907T220216Z
UID:4105-1621425600-1621431000@snd.org
SUMMARY:Creative Conference Calls: Meet the Makers of Best In Show
DESCRIPTION:At SND’s digital competition\, the judges recognized the work of three publications of different newsroom sizes as Best In Show. Hear from the publications how each project developed\, the thought process and impact of the project on their communities\, but also those who worked so hard on them. \n\n \n\n\n\n\n\n \n\n\n\nOur Speakers\n\n\n\n\n\n\nGilberto Scofield Jr. from Agency Lupa\, “No epicentro”\nRenate Rognan and Ragnar Rognstad from NRK\, “Your climate future”\nRumsey Taylor from The New York Times\, “Who gets to breathe clean air in New Delhi”\nModerator: Rebecca Pazos of The Strait Times\n\n\n\n\n \n\n\n\n\n\n\n\n  \n\nWatch this Session\n\n\n\nIf you registered for this event\, you can access the video playback. Sign into Crowdcast with the email you registered with or use the link provided in your registration email from Crowdcast. If you have issues or questions\, email us at events@snd.org \n\nMembers login to watch replay. \nRegistered attendees can view on Crowdcast.
URL:https://snd.org/event/virtual-series-best-in-show/
CATEGORIES:Creative Conference Calls
ATTACH;FMTTYPE=image/png:https://snd.org/wp-content/uploads/2021/04/ccc_May-e1630846831923.png
END:VEVENT
END:VCALENDAR