BEGIN:VCALENDAR
VERSION:2.0
PRODID:-//Society for News Design - ECPv6.15.20//NONSGML v1.0//EN
CALSCALE:GREGORIAN
METHOD:PUBLISH
X-WR-CALNAME:Society for News Design
X-ORIGINAL-URL:https://snd.org
X-WR-CALDESC:Events for Society for News Design
REFRESH-INTERVAL;VALUE=DURATION:PT1H
X-Robots-Tag:noindex
X-PUBLISHED-TTL:PT1H
BEGIN:VTIMEZONE
TZID:America/New_York
BEGIN:DAYLIGHT
TZOFFSETFROM:-0500
TZOFFSETTO:-0400
TZNAME:EDT
DTSTART:20200308T070000
END:DAYLIGHT
BEGIN:STANDARD
TZOFFSETFROM:-0400
TZOFFSETTO:-0500
TZNAME:EST
DTSTART:20201101T060000
END:STANDARD
BEGIN:DAYLIGHT
TZOFFSETFROM:-0500
TZOFFSETTO:-0400
TZNAME:EDT
DTSTART:20210314T070000
END:DAYLIGHT
BEGIN:STANDARD
TZOFFSETFROM:-0400
TZOFFSETTO:-0500
TZNAME:EST
DTSTART:20211107T060000
END:STANDARD
BEGIN:DAYLIGHT
TZOFFSETFROM:-0500
TZOFFSETTO:-0400
TZNAME:EDT
DTSTART:20220313T070000
END:DAYLIGHT
BEGIN:STANDARD
TZOFFSETFROM:-0400
TZOFFSETTO:-0500
TZNAME:EST
DTSTART:20221106T060000
END:STANDARD
END:VTIMEZONE
BEGIN:VEVENT
DTSTART;TZID=America/New_York:20211210T123000
DTEND;TZID=America/New_York:20211210T133000
DTSTAMP:20260423T181854
CREATED:20210406T042259Z
LAST-MODIFIED:20211207T200634Z
UID:4099-1639139400-1639143000@snd.org
SUMMARY:SND Quarterly Business Meeting
DESCRIPTION:SND is committed to keeping our members informed of the ongoings of the Society. Current SND members can join SND Board of Directors to learn more about the organizations financials\, membership and upcoming events. \nAgenda: \n\nWelcome from the new SND Board\nSND Membership and Financial\nNew Partnerships\nCompetitions Update\n\nTo attend the meeting\, you must have an active\, paid account with our membership system\, Membership Works.  \nTo confirm your membership status\, please sign into your account here: https://www.snd.org/join/member-sign-in/#myaccount. If you don’t remember the email your account was created with or your password\, or are unsure if you have been added to the membership database\, please contact us at director@snd.org and we will assist you.
URL:https://snd.org/event/snd-quarterly-business-meeting-3/
CATEGORIES:SND Business Meeting
ATTACH;FMTTYPE=image/png:https://snd.org/wp-content/uploads/2021/04/BUSINESS-MEETING-e1630846759689.png
END:VEVENT
END:VCALENDAR