BEGIN:VCALENDAR
VERSION:2.0
PRODID:-//Society for News Design - ECPv6.15.20//NONSGML v1.0//EN
CALSCALE:GREGORIAN
METHOD:PUBLISH
X-WR-CALNAME:Society for News Design
X-ORIGINAL-URL:https://snd.org
X-WR-CALDESC:Events for Society for News Design
REFRESH-INTERVAL;VALUE=DURATION:PT1H
X-Robots-Tag:noindex
X-PUBLISHED-TTL:PT1H
BEGIN:VTIMEZONE
TZID:America/New_York
BEGIN:DAYLIGHT
TZOFFSETFROM:-0500
TZOFFSETTO:-0400
TZNAME:EDT
DTSTART:20210314T070000
END:DAYLIGHT
BEGIN:STANDARD
TZOFFSETFROM:-0400
TZOFFSETTO:-0500
TZNAME:EST
DTSTART:20211107T060000
END:STANDARD
BEGIN:DAYLIGHT
TZOFFSETFROM:-0500
TZOFFSETTO:-0400
TZNAME:EDT
DTSTART:20220313T070000
END:DAYLIGHT
BEGIN:STANDARD
TZOFFSETFROM:-0400
TZOFFSETTO:-0500
TZNAME:EST
DTSTART:20221106T060000
END:STANDARD
BEGIN:DAYLIGHT
TZOFFSETFROM:-0500
TZOFFSETTO:-0400
TZNAME:EDT
DTSTART:20230312T070000
END:DAYLIGHT
BEGIN:STANDARD
TZOFFSETFROM:-0400
TZOFFSETTO:-0500
TZNAME:EST
DTSTART:20231105T060000
END:STANDARD
END:VTIMEZONE
BEGIN:VEVENT
DTSTART;TZID=America/New_York:20220317T170000
DTEND;TZID=America/New_York:20220317T180000
DTSTAMP:20260424T021130
CREATED:20220311T193235Z
LAST-MODIFIED:20220311T193235Z
UID:47351-1647536400-1647540000@snd.org
SUMMARY:Michigan State University student chapter (MSUSND) meeting
DESCRIPTION:MSUSND will discuss presenting your design work in an online portfolio. We will talk about do-it-yourself sites to post your work\, as well as building your own site. We will also work on editing your work down to the very best work samples.
URL:https://snd.org/event/michigan-state-university-student-chapter-msusnd-meeting/
LOCATION:Communication Arts and Sciences Building\, School of Journalism\, Michigan State University\, 404 Wilson Rd.\, Room 182\, East Lansing\, MI
CATEGORIES:Student Events
ATTACH;FMTTYPE=image/png:https://snd.org/wp-content/uploads/2020/11/MSUSND-Twitter-Logo-no-tagline.png
ORGANIZER;CN="SNDMSU":MAILTO:eppsric1@msu.edu
END:VEVENT
END:VCALENDAR